BEGIN:VCALENDAR
VERSION:2.0
PRODID:-//Fntoys Workshop - ECPv6.15.11//NONSGML v1.0//EN
CALSCALE:GREGORIAN
METHOD:PUBLISH
X-ORIGINAL-URL:https://fntoys.id
X-WR-CALDESC:Events for Fntoys Workshop
REFRESH-INTERVAL;VALUE=DURATION:PT1H
X-Robots-Tag:noindex
X-PUBLISHED-TTL:PT1H
BEGIN:VTIMEZONE
TZID:Asia/Jakarta
BEGIN:STANDARD
TZOFFSETFROM:+0700
TZOFFSETTO:+0700
TZNAME:WIB
DTSTART:20240101T000000
END:STANDARD
END:VTIMEZONE
BEGIN:VEVENT
DTSTART;VALUE=DATE:20260116
DTEND;VALUE=DATE:20260119
DTSTAMP:20260419T220423
CREATED:20251231T103159Z
LAST-MODIFIED:20251231T103159Z
UID:2035-1768521600-1768780799@fntoys.id
SUMMARY:STBO+ National Championship Seri 01 2026: Total Hadiah Fantastis 60 Juta!
DESCRIPTION:Siapkan tim terbaik Anda untuk ajang kasta tertinggi! GTS (Grumia Toys) berkolaborasi dengan K168 Mini 4WD Racing menghadirkan STBO+ National Championship Seri 01. Bertempat di Cinere Bellevue Mall\, kompetisi berskala nasional ini menawarkan total hadiah luar biasa sebesar Rp 60.000.000! \nDetail Kompetisi\n\n\nTanggal: Jumat – Minggu\, 16 – 18 Januari 2026. \n\n\nLokasi: Cinere Bellevue Mall. \n\n\nKategori: STBO+ (Standart Tamiya Box Original Plus). \n\n\nPembagian Hadiah Juara\nKompetisi ini akan memberikan penghargaan kepada pemenang hingga peringkat ke-6: \n\n\nJuara 1: Rp 14.000.000 \n\n\nJuara 2: Rp 10.000.000 \n\n\nJuara 3: Rp 8.000.000 \n\n\nJuara 4: Rp 6.000.000 \n\n\nJuara 5: Rp 4.500.000 \n\n\nJuara 6: Rp 3.500.000 \n\n\nBest Race: Rp 5.000.000 \n\n\nBTO Track 1\, 2\, & 3: Masing-masing Rp 2.000.000 \n\n\nBTO Sesi/Track: Tersedia 30 amplop @ Rp 100.000 \n\n\nPaket Pendaftaran & Kupon\nDapatkan fasilitas Paddock Permanent dengan mendaftar lebih awal (pemilihan paddock berlaku untuk tim yang sudah bayar early): \n\n\nPaket Early 1: Rp 2.000.000 (10 Paket) – Pembayaran s/d 5 Januari. \n\n\nPaket Early 2: Rp 2.500.000 (10+1 Paket) – Pembayaran s/d 15 Januari. \n\n\nKupon Tambahan: Rp 250.000 per 50 kupon. \n\n\nKapasitas Tim: Maksimal 8 Racer per Tim. \n\n\nKontak Person: \n\n\nTio: 0398419328727 \n\n\nTaris: 081910159627 \n\n\nDapatkan segala kebutuhan suku cadang original Tamiya dan perlengkapan balap STBO+ hanya di fntoys.id. \n\nTamiya Damper Style\, STBO+ National Championship\, Balap Tamiya Cinere\, Lomba Tamiya Tegal 2026\, Mini 4WD Indonesia\, FNToys\, GTS Toys\, Team BMB. \nJangan lewatkan dua ajang Tamiya besar di Januari 2026! Combat Fun Race di Tegal & STBO+ National Championship di Cinere dengan total hadiah hingga Rp 60 Juta. Cek info lengkapnya di fntoys.id!
URL:https://fntoys.id/event/stbo-national-championship-seri-01-2026-total-hadiah-fantastis-60-juta/
LOCATION:Cinere Bellevue Mall\, Jl. Merawan No.23\, Pangkalan Jati\, Kec. Cinere\, Kota Depok\, Jawa Barat 16514\, Depok\, Jawa Barat\, 16514\, Indonesia
CATEGORIES:STBO+
ATTACH;FMTTYPE=image/jpeg:https://fntoys.id/wp-content/uploads/2025/12/WhatsApp-Image-2025-12-30-at-16.18.00.jpeg
END:VEVENT
BEGIN:VEVENT
DTSTART;VALUE=DATE:20251107
DTEND;VALUE=DATE:20251110
DTSTAMP:20260419T220423
CREATED:20250924T140344Z
LAST-MODIFIED:20250924T140344Z
UID:1745-1762473600-1762732799@fntoys.id
SUMMARY:Grand Final STBO+ 2025: Race Mini4WD Jakarta di Cinere Bellevue Mall
DESCRIPTION:Grand Final STBO+ 2025: Race Mini4WD Jakarta di Cinere Bellevue Mall\nKawan-kawan pecinta Mini4WD\, ada kabar seru nih! Tim DOM Team akan menyelenggarakan Grand Final STBO+ 2025. Acara ini berlangsung Jumat–Minggu\, 7–9 November 2025\, mulai pukul 10.00 WIB setiap hari\, bertempat di Cinere Bellevue Mall Jakarta. Event ini menawarkan hadiah total Rp80.000.000 plus grand lucky draw\, menambah keseruan kompetisi. Catat tanggalnya karena ini pasti jadi salah satu race Mini4WD Jakarta terbesar dalam jadwal race Mini4WD 2025. \nInfo Acara\nTanggal: Jumat–Minggu\, 7–9 November 2025 \nWaktu: mulai 10.00 WIB setiap hari \nLokasi: Cinere Bellevue Mall\, Jakarta \nKategori: STBO+ (Standar Tamiya Box Original) \nKategori STBO+\nKategori STBO+ (Standar Tamiya Box Original) hanya memperbolehkan mobil dari kit Tamiya standar (kotak original). Artinya\, modifikasi dibatasi sesuai regulasi STBO Indonesia\, tanpa upgrade suku cadang di luar kit standar. Kelas ini populer sebagai ajang adu kreativitas para pembalap Mini4WD yang menggunakan mobil kit standar. \nHadiah dan Lucky Draw\nTotal hadiah Grand Final STBO+ 2025 mencapai Rp80.000.000! Hadiah besar ini membuat perebutan podium semakin sengit. Selain itu\, ada juga Grand Lucky Draw bagi peserta beruntung\, menambah keseruan kompetisi. Bagi komunitas maupun pendatang baru\, ini kesempatan emas untuk memenangkan hadiah besar sambil saling bertukar pengalaman di dunia Mini4WD. \nPendaftaran\nPendaftaran Grand Final STBO+ 2025 dibuka dengan paket registrasi sebagai berikut: \nEarly 1: paket 10+3 (s/d 3 Oktober 2025) \nEarly 2: paket 10+2 (s/d 17 Oktober 2025) \nEarly 3: paket 10+1 (s/d hari perlombaan) \nHarga normal: Rp275.000 per paket \nTransfer ke: Tezar Sukmana – BCA 4741015603 \nSetiap paket pendaftaran sudah termasuk slot start (untuk satu mobil). Pastikan transfer pembayaran dilakukan sebelum batas waktu agar mendapatkan promo early bird. \nPenyelenggara & Kontak\nAcara ini diselenggarakan oleh DOM Team Mini4WD\, tim yang berpengalaman dalam menggelar lomba Mini4WD di Jabodetabek. Untuk informasi lebih lanjut atau pendaftaran\, hubungi: \nTezar: 0819-3267-3031 \nElmo: 0877-7545-1494 \nSegera daftarkan diri dan timmu\, jadilah bagian dari keseruan Grand Final STBO+ 2025!
URL:https://fntoys.id/event/grand-final-stbo-2025-race-mini4wd-jakarta-di-cinere-bellevue-mall/
LOCATION:Cinere Bellevue Mall\, Jl. Merawan No.23\, Pangkalan Jati\, Kec. Cinere\, Kota Depok\, Jawa Barat 16514\, Depok\, Jawa Barat\, 16514\, Indonesia
CATEGORIES:STBO+
ATTACH;FMTTYPE=image/jpeg:https://fntoys.id/wp-content/uploads/2025/09/SaveVid.Net_552670266_17877481251407026_659030393550151394_n.jpg
END:VEVENT
BEGIN:VEVENT
DTSTART;VALUE=DATE:20251101
DTEND;VALUE=DATE:20251103
DTSTAMP:20260419T220423
CREATED:20251021T143010Z
LAST-MODIFIED:20251021T143010Z
UID:1876-1761955200-1762127999@fntoys.id
SUMMARY:BEKEL x OGANK – STBO+ Mataram 2025
DESCRIPTION:BEKEL x OGANK – STBO+ Mataram 2025\n1–2 November 2025 – Mataram Mall\, Lantai 1 \nDua komunitas besar\, Bekel Mini 4WD dan Ogank Mini 4WD\, berkolaborasi menghadirkan event besar di Mataram dengan total hadiah Rp 15.000.000. Menggunakan dua track kembar\, event ini jadi ajang unjuk performa dan konsistensi setup mobil terbaik. \nJuara 1: Rp 4.000.000 \nJuara 2: Rp 3.000.000 \nJuara 3: Rp 2.000.000 \nJuara 4: Rp 1.000.000 \nBest Race: Rp 1.500.000 \nBTO Track 1: Rp 1.250.000 \nBTO Track 2: Rp 1.250.000 \nBTO Sesi: Rp 50.000 x 10 Amplop \nEarly 1.100.000 (8 paket) tersedia tanggal 20–29 Oktober 2025 \nOTS Sabtu Rp 150.000 / 50 kupon\nOTS Minggu Rp 175.000 / 50 kupon. \nMaksimal 1 tim terdiri dari 3 orang racer. \nDidukung oleh berbagai sponsor dan komunitas lokal\, event ini siap jadi salah satu lomba terbesar di akhir tahun. Pastikan timmu hadir dan jadi bagian dari sejarah Mini 4WD Mataram.
URL:https://fntoys.id/event/bekel-x-ogank-stbo-mataram-2025/
LOCATION:Mataram Mall\, Jl. Cilinaya No.7\, Cilinaya\, Kec. Cakranegara\, Kota Mataram\, Nusa Tenggara Barat 83239\, Mataram\, Nusa Tenggara Barat\, 83239\, Indonesia
CATEGORIES:STBO+
ATTACH;FMTTYPE=image/jpeg:https://fntoys.id/wp-content/uploads/2025/10/WhatsApp-Image-2025-10-21-at-14.17.28.jpeg
END:VEVENT
BEGIN:VEVENT
DTSTART;VALUE=DATE:20250905
DTEND;VALUE=DATE:20250908
DTSTAMP:20260419T220423
CREATED:20250730T131027Z
LAST-MODIFIED:20250730T131027Z
UID:926-1757030400-1757289599@fntoys.id
SUMMARY:National Championship STBO+ Round 3
DESCRIPTION:NATIONAL CHAMPIONSHIP STBO+\nRound 3\nTotal Hadiah Rp. 60.000.000\n5\, 6\, 7 September 2025\nMall Tamini Square\, Jakarta Timur
URL:https://fntoys.id/event/national-championship-stbo-round-3/
LOCATION:Tamini Square\, Tamini Square\, Jakarta Timur\, JAKARTA\, Indonesia
CATEGORIES:STBO+
ATTACH;FMTTYPE=image/jpeg:https://fntoys.id/wp-content/uploads/2025/07/SaveVid.Net_524930207_17941290369033129_8533509199476635933_n.jpg
END:VEVENT
END:VCALENDAR