BEGIN:VCALENDAR
VERSION:2.0
PRODID:-//Fntoys Workshop - ECPv6.15.11//NONSGML v1.0//EN
CALSCALE:GREGORIAN
METHOD:PUBLISH
X-WR-CALNAME:Fntoys Workshop
X-ORIGINAL-URL:https://fntoys.id
X-WR-CALDESC:Events for Fntoys Workshop
REFRESH-INTERVAL;VALUE=DURATION:PT1H
X-Robots-Tag:noindex
X-PUBLISHED-TTL:PT1H
BEGIN:VTIMEZONE
TZID:Asia/Jakarta
BEGIN:STANDARD
TZOFFSETFROM:+0700
TZOFFSETTO:+0700
TZNAME:WIB
DTSTART:20240101T000000
END:STANDARD
END:VTIMEZONE
BEGIN:VEVENT
DTSTART;VALUE=DATE:20251116
DTEND;VALUE=DATE:20251117
DTSTAMP:20260419T233422
CREATED:20250930T143628Z
LAST-MODIFIED:20251002T110349Z
UID:1763-1763251200-1763337599@fntoys.id
SUMMARY:STB Up 2025 – Balap Kuy #1
DESCRIPTION:STB Up 2025 – Balap Kuy #1\nAyo ikut meramaikan event STB Up 2025 Balap Kuy #1 dengan total hadiah hingga Rp 7.000.000! \nLokasi: Gedung Jember Nusantara\nTanggal: 16 November 2025\nWaktu: 09.00 WIB – Selesai \nDetail Hadiah\nJuara 1: Rp 1.500.000 \nJuara 2: Rp 1.000.000 \nJuara 3: Rp 750.000 \nJuara 4: Rp 500.000 \nJuara 5: Rp 400.000 \nJuara 6: Rp 300.000 \nBest Race: Rp 850.000 \nInfo Kupon & BTO\nEarly: Rp 375.000 (150 kupon) \nOTS: Rp 375.000 (100 kupon) \nNext Kupon: Rp 100.000 (70 kupon) / Rp 200.000 (150 kupon) \nBTO Track 1 & 2: Rp 550.000 \nBTO Sesi: Rp 50.000 x 6 sesi / track \nAturan\nMenggunakan 2 track kembar \nMaksimal 3 racer per tim \n 
URL:https://fntoys.id/event/stb-up-2025-balap-kuy-1/
LOCATION:Gedung Jember Nusantara\, Pagah\, Jemberlor\, Kec. Patrang\, Kabupaten Jember\, Jawa Timur 68118\, Jember\, Jawa Timur\, 68118\, Indonesia
CATEGORIES:STB-UP 2025
ATTACH;FMTTYPE=image/jpeg:https://fntoys.id/wp-content/uploads/2025/09/WhatsApp-Image-2025-09-30-at-18.24.26.jpeg
END:VEVENT
BEGIN:VEVENT
DTSTART;VALUE=DATE:20251108
DTEND;VALUE=DATE:20251109
DTSTAMP:20260419T233422
CREATED:20251027T134351Z
LAST-MODIFIED:20251027T134607Z
UID:1920-1762560000-1762646399@fntoys.id
SUMMARY:STB UP 2025: Pool Prize Rp 5.000.000 Siap Diperebutkan di Malang!
DESCRIPTION:STB UP 2025 kembali! Balap Tamiya STB di MCC Lantai 4 Malang\, Sabtu 8 November 2025. Pool Prize Rp 5 Juta dengan 2 Track Kembar. Info lengkap FNTOYS. \nSatu hari sebelum Malang Damper Class\, Sobat Limit Mini 4WD juga menggelar balapan khusus untuk kelas STB UP! STB UP 2025 akan diadakan pada Sabtu\, 8 November 2025\, bertempat di MCC Lantai 4\, Malang. \nAjang ini menawarkan Pool Prize total sebesar Rp 5.000.000\, termasuk hadiah untuk Juara 1 hingga 3\, serta bonus BTO (Best Time Overall) di 2 Track Kembar dan BTO Sesi. Kompetisi akan berjalan dengan sistem FULL SCRUT. \nDapatkan kesempatan Early Bird dengan harga kupon yang lebih terjangkau. Bagi komunitas Mini4wd Indonesia yang ingin berkompetisi di kelas STB UP\, jangan lewatkan tanggal ini!
URL:https://fntoys.id/event/stb-up-2025-pool-prize-rp-5-000-000-siap-diperebutkan-di-malang/
LOCATION:Malang Creative Center\, Jl. Ahmad Yani No.53\, Blimbing\, Kec. Blimbing\, Kota Malang\, Jawa Timur 65118\, Malang\, Jawa Timur\, 65118\, Indonesia
CATEGORIES:STB-UP 2025
ATTACH;FMTTYPE=image/jpeg:https://fntoys.id/wp-content/uploads/2025/10/WhatsApp-Image-2025-10-27-at-09.35.38.jpeg
END:VEVENT
BEGIN:VEVENT
DTSTART;VALUE=DATE:20251102
DTEND;VALUE=DATE:20251103
DTSTAMP:20260419T233422
CREATED:20251014T133420Z
LAST-MODIFIED:20251014T135111Z
UID:1846-1762041600-1762127999@fntoys.id
SUMMARY:Kopi Balap 43’s OPEN RACE STB UP
DESCRIPTION:KOPI BALAP 43’s STB OPEN RACEEvent spektakuler Kopi Balap 43’s STB UP Open Race akan digelar pada 2 November 2025 di Fourtrees Coffee\, Cilacap.Dengan konsep unik menggunakan 2 track kembar dan sistem 1 tim 4 racer\, event ini menjanjikan kompetisi seru dengan total hadiah mencapai Rp 10.000.000. \nRincian hadiah utama:Juara 1: Rp 3.000.000Juara 2: Rp 2.300.000Juara 3: Rp 1.800.000BTO dan Best Race dengan total tambahan hadiah Rp 2.150.000 \nPendaftaran:Early bird Rp 500.000 (200 kupon + 50 kupon bonus + produk sponsor)On the spot Rp 550.000 (200 kupon + produk sponsor) \nDidukung oleh SuperChallenge\, Inspirasi Cilacap\, dll.Untuk informasi dan pendaftaran\, hubungi Leonn di 0813-2555-5793.
URL:https://fntoys.id/event/kopi-balap-43s-open-race-stb-up/
LOCATION:Fourtrees Coffee\, Jl. Jawa No.23\, Macangaeng\, Gunungsimping\, Kec. Cilacap Tengah\, Kabupaten Cilacap\, Jawa Tengah 53224\, Cilacap\, Jawa Tengah\, 53224\, Indonesia
CATEGORIES:STB-UP 2025
ATTACH;FMTTYPE=image/jpeg:https://fntoys.id/wp-content/uploads/2025/10/WhatsApp-Image-2025-10-13-at-18.47.55.jpeg
END:VEVENT
BEGIN:VEVENT
DTSTART;VALUE=DATE:20251031
DTEND;VALUE=DATE:20251103
DTSTAMP:20260419T233422
CREATED:20251002T120029Z
LAST-MODIFIED:20251023T122430Z
UID:1776-1761868800-1762127999@fntoys.id
SUMMARY:Academy Meet Present Open Race STB UP 2025
DESCRIPTION:Academy Meet Present\nOpen Race STB UP (31 Okt – 2 Nov 2025)\nAjang Open Race STB UP 2025 akan digelar pada 31 Oktober – 2 November 2025 dengan total hadiah sebesar Rp 22.000.000. Kompetisi ini membuka peluang bagi para racer terbaik untuk memperebutkan posisi juara 1 hingga juara 6\, lengkap dengan trophy dan piagam. Selain hadiah utama\, tersedia juga kategori BTO Track serta Best Race yang menambah tantangan sekaligus keseruan balapan. Dengan format team (maksimal 6 racer) maupun individu\, event ini menjadi kesempatan emas bagi komunitas Mini4WD untuk menunjukkan skill dan strategi di lintasan.
URL:https://fntoys.id/event/academymeet-open-race-stb-up-2025/
LOCATION:Meet Space Coffee\, Jl. Profesor Dr. Hamka\, Bakaran Batu\, Kec. Rantau Sel.\, Kab. Labuhanbatu\, Sumatera Utara\, Labuhanbatu\, Sumatera Utara\, Indonesia
CATEGORIES:STB-UP 2025
ATTACH;FMTTYPE=image/webp:https://fntoys.id/wp-content/uploads/2025/10/SaveVid.Net_557408288_17853532410549112_2599345091789537807_n.webp
END:VEVENT
BEGIN:VEVENT
DTSTART;VALUE=DATE:20251019
DTEND;VALUE=DATE:20251020
DTSTAMP:20260419T233422
CREATED:20251004T101257Z
LAST-MODIFIED:20251004T101257Z
UID:1791-1760832000-1760918399@fntoys.id
SUMMARY:STB UP 2025 - Preston Mini 4WD
DESCRIPTION:STB UP 2025: Siap Beradu Kecepatan Mini 4WD\, Total Hadiah Rp 5 Juta! \nAyo persiapkan Mini 4WD terbaikmu dan raih kesempatan memenangkan total hadiah senilai Rp 5.000.000 di STB UP 2025 persembahan Preston Mini 4WD! Ajang balap ini akan diselenggarakan pada Minggu\, 19 Oktober 2025\, mulai pukul 10.00 hingga selesai. Setiap tim dapat mendaftarkan maksimal 3 racer dan akan beradu di 2 track kembar. Jangan lewatkan kesempatan untuk membeli kupon pendaftaran. Tersedia Early Kupon (Rp 300K/150 Kupon) dan Next Kupon (Rp 100K/50 Kupon)\, serta OTS Registrasi (Rp 300K/100 Kupon) untuk pendaftar di tempat. Transfer pendaftaran dapat dilakukan melalui BCA 0113147960 a.n. Faishol Azhar Syamsudin. Segera daftar dan buktikan siapa yang tercepat!\nLokasi: SM Futsal Sudimoro.\nInfo Kontak: Faishol – 082140500823.
URL:https://fntoys.id/event/stb-up-2025-preston-mini-4wd/
LOCATION:SM Futsal Sudimoro\, Jl. Sudimoro Utara Jl. Ikan Tombro No.25\, Mojolangu\, Kec. Lowokwaru\, Kota Malang\, Jawa Timur 65142\, Malang\, Jawa Timur\, 65142\, Indonesia
CATEGORIES:STB-UP 2025
ATTACH;FMTTYPE=image/jpeg:https://fntoys.id/wp-content/uploads/2025/10/WhatsApp-Image-2025-10-04-at-15.56.48.jpeg
END:VEVENT
BEGIN:VEVENT
DTSTART;VALUE=DATE:20250921
DTEND;VALUE=DATE:20250922
DTSTAMP:20260419T233423
CREATED:20250820T124220Z
LAST-MODIFIED:20250901T113510Z
UID:1574-1758412800-1758499199@fntoys.id
SUMMARY:Balapan STB UP by Tamiya Zone
DESCRIPTION:Balapan STB UP by Tamiya Zone \nTotal Hadiah Rp.3.500.000 \nMinggu\, 21 September 2025\nPukul 10.00 WIB – Selesai \nEarly Kupon (1-19 September 2025) Rp.300.000/200 Kupon\nOTS Registration Rp.200.000/100 Kupon\nNext Kupon Rp.75.000/50 Kupon \nMalang Creative Center Open Public Space Barat Lt3\nJl. Ahmad Yani No.53\, Blimbing\, Kec. Blimbing\, Kota Malang\, Jawa Timur 65118 \nPIC: Edo – 085186060341
URL:https://fntoys.id/event/balapan-stb-up-by-tamiya-zone/
LOCATION:Malang Creative Center\, Jl. Ahmad Yani No.53\, Blimbing\, Kec. Blimbing\, Kota Malang\, Jawa Timur 65118\, Malang\, Jawa Timur\, 65118\, Indonesia
CATEGORIES:STB-UP 2025
ATTACH;FMTTYPE=image/jpeg:https://fntoys.id/wp-content/uploads/2025/08/WhatsApp-Image-2025-09-01-at-08.57.40.jpeg
END:VEVENT
BEGIN:VEVENT
DTSTART;VALUE=DATE:20250824
DTEND;VALUE=DATE:20250825
DTSTAMP:20260419T233423
CREATED:20250814T123126Z
LAST-MODIFIED:20250814T123421Z
UID:1423-1755993600-1756079999@fntoys.id
SUMMARY:FNToys Cilacap Merdeka Race STB-UP 2025
DESCRIPTION:Merdeka Race STB-UP \nTotal Hadiah Rp.5.000.000 \nRegistrasi Rp.300.000 Max team 2 Orang.\nTambahan kupon Rp.20.000 (20 kupon) \nEarly Bird Rp.300.000/200 kupon\nOpen 14-20 Agustus 2025\nNon Early Rp.300.000/150 kupon \nDate 24 Agustus 2025\nEngine start 10AM – Until your engine dead. \nLocation Kedai Koffi Helsinki\nJl. Brigjend. Katamso No.32\, Cilacap\, Sidanegara\, Kec. Cilacap Tengah\, Kabupaten Cilacap\, Jawa Tengah 53212 \nFor More Information\ncontact admin FNToys Cilacap on WhatsApp http://wa.me/+6281312259159 \n 
URL:https://fntoys.id/event/fntoys-cilacap-merdeka-race-stb-up/
LOCATION:Kedai Koffi Helsinki\, Jl. Brigjend. Katamso No.32\, Cilacap\, Sidanegara\, Kec. Cilacap Tengah\, Kabupaten Cilacap\, Jawa Tengah 53212\, Cilacap\, Jawa Tengah\, 53212\, Indonesia
CATEGORIES:STB-UP 2025
ATTACH;FMTTYPE=image/jpeg:https://fntoys.id/wp-content/uploads/2025/08/WhatsApp-Image-2025-08-14-at-18.26.35.jpeg
END:VEVENT
BEGIN:VEVENT
DTSTART;VALUE=DATE:20250823
DTEND;VALUE=DATE:20250824
DTSTAMP:20260419T233423
CREATED:20250815T111859Z
LAST-MODIFIED:20250815T111859Z
UID:1534-1755907200-1755993599@fntoys.id
SUMMARY:STB-UP 2025 Race Kemerdekaan
DESCRIPTION:STB-UP 2025 Race Kemerdekaan \nTotal Hadiah Rp.2.000.000 \nIndividual Race\nRegistrasi awal Rp.100.000/40 Run\nNext Run Rp.2.000\,- \nLokasi Citimall Pangkalan Bun\nMadurejo\, Kec. Arut Sel.\, Kabupaten Kotawaringin Barat\, Kalimantan Tengah 74181
URL:https://fntoys.id/event/stb-up-2025-race-kemerdekaan/
LOCATION:Citimall Pangkalan Bun\, Madurejo\, Kec. Arut Sel.\, Kabupaten Kotawaringin Barat\, Kalimantan Tengah 74181\, Kotawaringin\, Kalimantan Tengah\, 74181\, Indonesia
CATEGORIES:STB-UP 2025
ATTACH;FMTTYPE=image/jpeg:https://fntoys.id/wp-content/uploads/2025/08/WhatsApp-Image-2025-08-15-at-07.47.35.jpeg
END:VEVENT
BEGIN:VEVENT
DTSTART;VALUE=DATE:20250820
DTEND;VALUE=DATE:20250821
DTSTAMP:20260419T233423
CREATED:20250820T123616Z
LAST-MODIFIED:20250829T142613Z
UID:1570-1755648000-1755734399@fntoys.id
SUMMARY:FUNRACE STB UP 2025
DESCRIPTION:Ipang & Friend X Layar Sariro\nPresent\nFUNRACE STB UP 2025 \nTotal Hadiah Rp.2.200.000 \nMinggu\, 31 Agustus 2025 \nLayar Sariro Magelang\nJl. Kh. Irsyad\, permitan\, Cetir\, Bondowoso\, Kec. Mertoyudan\, Kabupaten Magelang\, Jawa Tengah 56172
URL:https://fntoys.id/event/funrace-stb-up-2025/
LOCATION:Layar Sariro Magelang\, Jl. Kh. Irsyad\, permitan\, Cetir\, Bondowoso\, Kec. Mertoyudan\, Kabupaten Magelang\, Jawa Tengah 56172\, Magelang\, Jawa Tengah\, 56172\, Indonesia
CATEGORIES:STB-UP 2025
ATTACH;FMTTYPE=image/jpeg:https://fntoys.id/wp-content/uploads/2025/08/WhatsApp-Image-2025-08-20-at-13.25.46.jpeg
END:VEVENT
BEGIN:VEVENT
DTSTART;VALUE=DATE:20250817
DTEND;VALUE=DATE:20250818
DTSTAMP:20260419T233423
CREATED:20250815T103745Z
LAST-MODIFIED:20250815T103746Z
UID:1530-1755388800-1755475199@fntoys.id
SUMMARY:STB-UP 2025 Fun Race Kemerdekaan
DESCRIPTION:STB-UP 2025 Fun Race Kemerdekaan \nTotal Hadiah Rp.5.000.000 \n17 Agustus 2025\nEngine on 10AM – Podium\n2 Layout track kembar \nLocation Big Bro Hobbies\, The Central Mall – Gunawangsa Tidar\nJl. Tidar No.350\, Tembok Dukuh\, Kec. Bubutan\, Surabaya\, Jawa Timur
URL:https://fntoys.id/event/stb-up-2025-fun-race-kemerdekaan/
LOCATION:Big Bro Tamiya\, Jl. Tidar No.350\, Tembok Dukuh\, Kec. Bubutan\, Surabaya\, Jawa Timur\, Surabaya\, Jawa Timur\, Indonesia
CATEGORIES:STB-UP 2025
ATTACH;FMTTYPE=image/jpeg:https://fntoys.id/wp-content/uploads/2025/08/WhatsApp-Image-2025-08-15-at-07.45.41.jpeg
END:VEVENT
END:VCALENDAR