BEGIN:VCALENDAR
VERSION:2.0
PRODID:-//Fntoys Workshop - ECPv6.15.11//NONSGML v1.0//EN
CALSCALE:GREGORIAN
METHOD:PUBLISH
X-ORIGINAL-URL:https://fntoys.id
X-WR-CALDESC:Events for Fntoys Workshop
REFRESH-INTERVAL;VALUE=DURATION:PT1H
X-Robots-Tag:noindex
X-PUBLISHED-TTL:PT1H
BEGIN:VTIMEZONE
TZID:Asia/Jakarta
BEGIN:STANDARD
TZOFFSETFROM:+0700
TZOFFSETTO:+0700
TZNAME:WIB
DTSTART:20240101T000000
END:STANDARD
END:VTIMEZONE
BEGIN:VEVENT
DTSTART;VALUE=DATE:20251026
DTEND;VALUE=DATE:20251027
DTSTAMP:20260420T042542
CREATED:20251021T141751Z
LAST-MODIFIED:20251021T141823Z
UID:1863-1761436800-1761523199@fntoys.id
SUMMARY:Fun Race STB PRO – 1st Series
DESCRIPTION:Fun Race STB PRO – Seri Pembuka\nSurabaya\, 26 Oktober 2025 \nAyo ikut keseruan Fun Race STB PRO\, ajang seru buat para pencinta Mini 4WD dari berbagai kota! Seri pertama digelar di Surabaya\, dan akan berlanjut ke Lamongan (9 November) serta Gresik (Final\, 14 Desember 2025). \nDengan total hadiah 2 juta rupiah\, event ini jadi kesempatan pas buat ngetes setup mobil dan adu strategi race bareng komunitas terbaik. \nJuara Umum 1: Rp 400K\nJuara Umum 2: Rp 200K \nEarly Bird: Rp 200K / 100 KuponNext: Rp 50K / 50 Kupon1 Tim maks. 2 orang. \nLokasi: THR Mall\, ex Ramayana – SurabayaJam: 11.00 – 21.00 WIBCP: 082234140966 (Kopai) \nDidukung oleh: BIG BRO\, Gresik Tamiya Community\, dan Lamongan Tamiya Racing.Siapkan mobil terbaikmu\, karena seri ini cuma awal dari perjalanan menuju puncak podium!
URL:https://fntoys.id/event/fun-race-stb-pro-1st-series/
LOCATION:THR Mall Surabaya\, Jl. Kusuma Bangsa No.116\, Tambaksari\, Kec. Tambaksari\, Surabaya\, Jawa Timur 60272\, Surabaya\, Jawa Timur\, 60272\, Indonesia
CATEGORIES:STB PRO
ATTACH;FMTTYPE=image/jpeg:https://fntoys.id/wp-content/uploads/2025/10/WhatsApp-Image-2025-10-21-at-14.19.15.jpeg
END:VEVENT
END:VCALENDAR