BEGIN:VCALENDAR
VERSION:2.0
PRODID:-//Fntoys Workshop - ECPv6.15.11//NONSGML v1.0//EN
CALSCALE:GREGORIAN
METHOD:PUBLISH
X-WR-CALNAME:Fntoys Workshop
X-ORIGINAL-URL:https://fntoys.id
X-WR-CALDESC:Events for Fntoys Workshop
REFRESH-INTERVAL;VALUE=DURATION:PT1H
X-Robots-Tag:noindex
X-PUBLISHED-TTL:PT1H
BEGIN:VTIMEZONE
TZID:Asia/Jakarta
BEGIN:STANDARD
TZOFFSETFROM:+0700
TZOFFSETTO:+0700
TZNAME:WIB
DTSTART:20240101T000000
END:STANDARD
END:VTIMEZONE
BEGIN:VEVENT
DTSTART;VALUE=DATE:20251114
DTEND;VALUE=DATE:20251115
DTSTAMP:20260420T011353
CREATED:20251115T111255Z
LAST-MODIFIED:20251115T111435Z
UID:1982-1763078400-1763164799@fntoys.id
SUMMARY:PMAX RACE: PRE PLASTIK WARS - Adu Cepat Mini 4WD Menggunakan PMAX Tune\, Jangan Lewatkan Total Hadiah Menarik!
DESCRIPTION:Ajang balap Tamiya yang seru\, PMAX RACE: PRE PLASTIK WARS\, akan segera hadir! Bersiaplah menguji mobil Mini 4WD Anda dengan tune maksimal (Rev Atomic Torque Tuned) dalam regulasi PMAX Class. \nAcara ini akan diselenggarakan pada Jumat\, 14 November 2025\, bertempat di Kool Dojo. \nBerikut adalah rincian acara dan jadwal: \n\n\nPendaftaran (Reg): 70K (Unlimited) \n\n\nSesi Race (Race starts): 18:30 – 20:30 WIB (Race Format 10-3-2-1\, Time Limit 1:30s) \n\n\nEngine On: Pukul 5 PM – Finish \n\n\nAktivitas Lain: Setelah Race akan ada Race Review dan QnA. \n\n\nRace akan dimulai jika minimal 11 racers sudah mendaftar. \nHadiah yang menanti para pemenang: \n\n\nJuara 1: Sertifikat + CASH 300K + 1 pasang Baterai PKCELL \n\n\nJuara 2: Sertifikat + CASH 170K + 1 pasang Baterai PKCELL \n\n\nJuara 3: Sertifikat + CASH 100K + 1 pasang Baterai PKCELL \n\n\nBTO: Sertifikat + CASH 70K + 1 pasang Baterai PKCELL \n\n\nBest Race: Sertifikat + CASH 70K \n\n\nBest Look: Sertifikat + Velg tire small wide carbon 15415 \n\n\nLokasi: Kool Dojo Jl. Madrasah 1 no 13\, Kebon Jeruk\, Jakarta Barat.
URL:https://fntoys.id/event/pmax-race-pre-plastik-wars-adu-cepat-mini-4wd-menggunakan-pmax-tune-jangan-lewatkan-total-hadiah-menarik/
LOCATION:Kool Dojo\, Jl. Madrasah I No.15\, RT.7/RW.4\, Sukabumi Utara\, Kec. Kb. Jeruk\, Kota Jakarta Barat\, Daerah Khusus Ibukota Jakarta 11540\, Jakarta Barat\, JAKARTA\, 11540\, Indonesia
CATEGORIES:PMAX Class
ATTACH;FMTTYPE=image/jpeg:https://fntoys.id/wp-content/uploads/2025/11/SaveVid.Net_584075769_784258171317275_8931705958960872443_n-e1763205260417.jpg
END:VEVENT
END:VCALENDAR