BEGIN:VCALENDAR
VERSION:2.0
PRODID:-//Fntoys Workshop - ECPv6.15.11//NONSGML v1.0//EN
CALSCALE:GREGORIAN
METHOD:PUBLISH
X-ORIGINAL-URL:https://fntoys.id
X-WR-CALDESC:Events for Fntoys Workshop
REFRESH-INTERVAL;VALUE=DURATION:PT1H
X-Robots-Tag:noindex
X-PUBLISHED-TTL:PT1H
BEGIN:VTIMEZONE
TZID:Asia/Jakarta
BEGIN:STANDARD
TZOFFSETFROM:+0700
TZOFFSETTO:+0700
TZNAME:WIB
DTSTART:20240101T000000
END:STANDARD
END:VTIMEZONE
BEGIN:VEVENT
DTSTART;VALUE=DATE:20250815
DTEND;VALUE=DATE:20250818
DTSTAMP:20260420T105151
CREATED:20250722T142111Z
LAST-MODIFIED:20250722T142111Z
UID:870-1755216000-1755475199@fntoys.id
SUMMARY:Merdeka Jakone Mobile Indonesia Open Class National Championship Round 5
DESCRIPTION:Merdeka Jakone Mobile Indonesia Open Class National Championship Round 5 \nTOTAL HADIAH Rp. 91.100.000 \n15-17 Agustus 2025 di Metropolis Town Square \nEarly Bird Open 25 Juli 2025 Jam 12.00 \n 
URL:https://fntoys.id/event/merdeka-jakone-mobile-indonesia-open-class-national-championship-round-5/
LOCATION:Metropolis Town Square\, Jl. Hartono Raya No.3\, RT.003/RW.006\, Klp. Indah\, Kec. Tangerang\, Kota Tangerang\, Banten 15118\, Tangerang\, JAKARTA\, 15118\, Indonesia
CATEGORIES:IOC
ATTACH;FMTTYPE=image/jpeg:https://fntoys.id/wp-content/uploads/2025/07/SaveVid.Net_521781126_1540769143552764_811921248060939414_n.jpg
END:VEVENT
END:VCALENDAR