BEGIN:VCALENDAR
VERSION:2.0
PRODID:-//Fntoys Workshop - ECPv6.15.11//NONSGML v1.0//EN
CALSCALE:GREGORIAN
METHOD:PUBLISH
X-WR-CALNAME:Fntoys Workshop
X-ORIGINAL-URL:https://fntoys.id
X-WR-CALDESC:Events for Fntoys Workshop
REFRESH-INTERVAL;VALUE=DURATION:PT1H
X-Robots-Tag:noindex
X-PUBLISHED-TTL:PT1H
BEGIN:VTIMEZONE
TZID:Asia/Jakarta
BEGIN:STANDARD
TZOFFSETFROM:+0700
TZOFFSETTO:+0700
TZNAME:WIB
DTSTART:20240101T000000
END:STANDARD
END:VTIMEZONE
BEGIN:VEVENT
DTSTART;VALUE=DATE:20250919
DTEND;VALUE=DATE:20250922
DTSTAMP:20260420T011350
CREATED:20250708T153720Z
LAST-MODIFIED:20250708T153720Z
UID:725-1758240000-1758499199@fntoys.id
SUMMARY:KEJURPROV Indonesia Damper Class Dash Series 3
DESCRIPTION:KEJURPROV Indonesia Damper Class Dash Series 3\n19-21 September 2025\nGedung Terminal Lumpue\nKota Parepare\nTotal Prize 20.000.000
URL:https://fntoys.id/event/kejurprov-indonesia-damper-class-dash-series-3/
LOCATION:Gedung Terminal Lumpue\, Lumpue\, Kec. Bacukiki Bar.\, Kota Parepare\, Sulawesi Selatan 91123\, Parepare\, sulawesi selatan\, 91123\, Indonesia
CATEGORIES:IDC Dash
ATTACH;FMTTYPE=image/jpeg:https://fntoys.id/wp-content/uploads/2025/07/SaveVid.Net_516778973_17851047900493557_1495121537933285286_n.jpg
END:VEVENT
BEGIN:VEVENT
DTSTART;VALUE=DATE:20250914
DTEND;VALUE=DATE:20250915
DTSTAMP:20260420T011350
CREATED:20250902T160715Z
LAST-MODIFIED:20250902T160752Z
UID:1616-1757808000-1757894399@fntoys.id
SUMMARY:Mini 4WD Championship JATIM Racing Series IDC 2025
DESCRIPTION:Team TAXI Mini 4WD Present \nMINI 4WD CHAMPIONSHIP 2025 \nJATIM RACING SERIES – KEJURPROV MINI 4WD 2025 \nINDONESIA DAMPER CLASS \n14 September 2025 \nRound 2 \nTotal Hadiah 20 Juta/Round \nAtrium Marvel City Mall\, jln Ngagel No. 123\, Surabaya. jawa timur
URL:https://fntoys.id/event/mini-4wd-championship-jatim-racing-series-idc-2025/
LOCATION:Marvel City\, Jl. Ngagel No.123\, Ngagel\, Kec. Wonokromo\, Surabaya\, Jawa Timur 60246\, Surabaya\, Jawa Timur\, 60246\, Indonesia
CATEGORIES:IDC Dash
ATTACH;FMTTYPE=image/jpeg:https://fntoys.id/wp-content/uploads/2025/09/WhatsApp-Image-2025-09-02-at-22.51.41.jpeg
END:VEVENT
BEGIN:VEVENT
DTSTART;VALUE=DATE:20250822
DTEND;VALUE=DATE:20250825
DTSTAMP:20260420T011350
CREATED:20250804T124931Z
LAST-MODIFIED:20250804T124931Z
UID:1128-1755820800-1756079999@fntoys.id
SUMMARY:Piala Walikota Samarinda National Damper Class Series 4
DESCRIPTION:CTR X DISPORAPAR \nNational Damper Class Series 4 Samarinda \nPiala walikota \nTotal Prize Rp.150.000.000 \nLayout 4 Track Kembar \n22 – 24 Agustus 2025 \nGOR SEGIRI \nJl. Kesuma Bangsa\, Sungai Pinang Luar\, Kec. Samarinda Kota\, Kota Samarinda\, Kalimantan Timur 75242
URL:https://fntoys.id/event/piala-walikota-samarinda-national-damper-class-series-4/
LOCATION:GOR Segiri\, Jl. Kesuma Bangsa\, Sungai Pinang Luar\, Kec. Samarinda Kota\, Kota Samarinda\, Kalimantan Timur 75242\, Samarinda\, Kalimantan Timur\, 75242\, Indonesia
CATEGORIES:IDC Dash
ATTACH;FMTTYPE=image/jpeg:https://fntoys.id/wp-content/uploads/2025/08/WhatsApp-Image-2025-08-04-at-17.56.21.jpeg
END:VEVENT
BEGIN:VEVENT
DTSTART;VALUE=DATE:20250816
DTEND;VALUE=DATE:20250818
DTSTAMP:20260420T011350
CREATED:20250804T114350Z
LAST-MODIFIED:20250804T114350Z
UID:1114-1755302400-1755475199@fntoys.id
SUMMARY:Sumo Present Kemerdekaan Mini4WD Race
DESCRIPTION:Kemerdekaan Mini4WD Race \nPool Prize Rp.16.000.000 \n16-17 Agustus 2025 \nPlaza Andalas Lantai 3 \nKota Padang\, Sumatera Barat \n2 track Kembar \n1 Team max 5 Racers \nEarly Rp.600.000/250 Run \nRegulasi IDC Dash\nBTO wajib segel
URL:https://fntoys.id/event/sumo-present-kemerdekaan-mini4wd-race/
LOCATION:Plaza Andalas\, Jl. Belakang Lintas No.2f\, Olo\, Kec. Padang Bar.\, Kota Padang\, Sumatera Barat 25117\, Kota Padang\, Sumatera Barat\, 25117\, Indonesia
CATEGORIES:IDC Dash
ATTACH;FMTTYPE=image/jpeg:https://fntoys.id/wp-content/uploads/2025/08/WhatsApp-Image-2025-08-04-at-09.05.04.jpeg
END:VEVENT
BEGIN:VEVENT
DTSTART;VALUE=DATE:20250808
DTEND;VALUE=DATE:20250811
DTSTAMP:20260420T011350
CREATED:20250708T152556Z
LAST-MODIFIED:20250708T152556Z
UID:721-1754611200-1754870399@fntoys.id
SUMMARY:KEJURPROV Indonesia Damper Class Dash Series 2
DESCRIPTION:Kejurprov Indonesia Damper Class\nDash Series 2\n8-10 Agustus 2025\nLiving Plaza Hertasning
URL:https://fntoys.id/event/kejurprov-indonesia-damper-class-dash-series-2/
LOCATION:Living Plaza Hertasning\, Jl. Tun Abdul Razak\, Tombolo\, Kec. Somba Opu\, Kabupaten Gowa\, Sulawesi Selatan 90233\, Gowa\, sulawesi selatan\, 90233\, Indonesia
CATEGORIES:IDC Dash
ATTACH;FMTTYPE=image/jpeg:https://fntoys.id/wp-content/uploads/2025/07/SaveVid.Net_515212588_665859866489907_2511940511200846799_n-1.jpg
END:VEVENT
BEGIN:VEVENT
DTSTART;VALUE=DATE:20250711
DTEND;VALUE=DATE:20250714
DTSTAMP:20260420T011350
CREATED:20250626T114214Z
LAST-MODIFIED:20250708T061138Z
UID:251-1752192000-1752451199@fntoys.id
SUMMARY:Raflesia National Championship Mini 4WD - IDC Dash Seri 3
DESCRIPTION:Untuk info lebih lanjut \nContact Organizer
URL:https://fntoys.id/event/rafflesia-national-championship-mini-4wd-idc-dash-seri-3/
LOCATION:Jakarta\, Mall Tamini Square\, Jakarta\, Indonesia
CATEGORIES:IDC Dash
ATTACH;FMTTYPE=image/jpeg:https://fntoys.id/wp-content/uploads/2025/06/WhatsApp-Image-2025-07-01-at-22.33.35.jpeg
END:VEVENT
END:VCALENDAR