BEGIN:VCALENDAR
VERSION:2.0
PRODID:-//Fntoys Workshop - ECPv6.15.11//NONSGML v1.0//EN
CALSCALE:GREGORIAN
METHOD:PUBLISH
X-WR-CALNAME:Fntoys Workshop
X-ORIGINAL-URL:https://fntoys.id
X-WR-CALDESC:Events for Fntoys Workshop
REFRESH-INTERVAL;VALUE=DURATION:PT1H
X-Robots-Tag:noindex
X-PUBLISHED-TTL:PT1H
BEGIN:VTIMEZONE
TZID:Asia/Jakarta
BEGIN:STANDARD
TZOFFSETFROM:+0700
TZOFFSETTO:+0700
TZNAME:WIB
DTSTART:20240101T000000
END:STANDARD
END:VTIMEZONE
BEGIN:VEVENT
DTSTART;TZID=Asia/Jakarta:20251025T090000
DTEND;TZID=Asia/Jakarta:20251026T210000
DTSTAMP:20260420T024742
CREATED:20250918T131232Z
LAST-MODIFIED:20250925T131154Z
UID:1710-1761382800-1761512400@fntoys.id
SUMMARY:FNAcademy Cilacap
DESCRIPTION:FNACADEMY CILACAP – 25-26 Oktober 2025 \nSetelah sukses menggelar FNAcademy di Bekasi\, kini giliran Cilacap yang menjadi tuan rumah. Acara ini akan dilaksanakan pada Sabtu–Ahad\, 25–26 Oktober 2025 bertempat di FN Cilacap. \nDi FNAcademy\, peserta akan diajak belajar mendalam mengenai dunia Mini4WD: mulai dari teori dasar\, teknik perakitan\, hingga rahasia setup balap damper style yang biasa dipakai para racer. Tidak hanya itu\, peserta juga bisa langsung mempraktikkan ilmu yang dipelajari dan berdiskusi bersama para pembalap berpengalaman. \nKarena konsep acara dibuat lebih intensif dan eksklusif\, jumlah peserta sengaja dibatasi hanya 20 orang agar setiap peserta bisa mendapatkan perhatian penuh dan pengalaman belajar yang maksimal. \nSegera amankan slot Anda\, karena kuota sangat terbatas.\nInfo & pendaftaran: 0822-4796-6467 \nWE LEARN\, WE BUILD\, WE RACE
URL:https://fntoys.id/event/fnacademy-cilacap/
LOCATION:FNToys Cilacap\, Jl. DI Panjaitan No.12\, Kandang Macan\, Tegalreja\, Kec. Cilacap Sel.\, Kabupaten Cilacap\, Jawa Tengah 53214\, Cilacap\, Jawa Tengah\, 53214\, Indonesia
CATEGORIES:FNAcademy
ATTACH;FMTTYPE=image/jpeg:https://fntoys.id/wp-content/uploads/2025/09/POSTER-FNACADEMY-CILACAP.jpg
END:VEVENT
END:VCALENDAR