BEGIN:VCALENDAR
VERSION:2.0
PRODID:-//Fntoys Workshop - ECPv6.15.11//NONSGML v1.0//EN
CALSCALE:GREGORIAN
METHOD:PUBLISH
X-WR-CALNAME:Fntoys Workshop
X-ORIGINAL-URL:https://fntoys.id
X-WR-CALDESC:Events for Fntoys Workshop
REFRESH-INTERVAL;VALUE=DURATION:PT1H
X-Robots-Tag:noindex
X-PUBLISHED-TTL:PT1H
BEGIN:VTIMEZONE
TZID:Asia/Jakarta
BEGIN:STANDARD
TZOFFSETFROM:+0700
TZOFFSETTO:+0700
TZNAME:WIB
DTSTART:20240101T000000
END:STANDARD
END:VTIMEZONE
BEGIN:VEVENT
DTSTART;VALUE=DATE:20250913
DTEND;VALUE=DATE:20250914
DTSTAMP:20260420T042513
CREATED:20250911T122151Z
LAST-MODIFIED:20250911T122151Z
UID:1650-1757721600-1757807999@fntoys.id
SUMMARY:Dream Toys Damper Class
DESCRIPTION:Dream Toys Damper Class \nRoad To KEJURNAS\nIDC DASH ROUND4 RAGAS X BKJU \nTotal Hadiah Rp.10.000.000 \nSabtu\, 13 September 2025 \nCinere Bellevue Mall lantai G\, Kota Depok\, Jawa Barat
URL:https://fntoys.id/event/dream-toys-damper-class/
LOCATION:Cinere Bellevue Mall\, Jl. Merawan No.23\, Pangkalan Jati\, Kec. Cinere\, Kota Depok\, Jawa Barat 16514\, Depok\, Jawa Barat\, 16514\, Indonesia
CATEGORIES:Damper Style
ATTACH;FMTTYPE=image/jpeg:https://fntoys.id/wp-content/uploads/2025/09/WhatsApp-Image-2025-09-11-at-13.52.57.jpeg
END:VEVENT
BEGIN:VEVENT
DTSTART;VALUE=DATE:20250905
DTEND;VALUE=DATE:20250908
DTSTAMP:20260420T042513
CREATED:20250828T112605Z
LAST-MODIFIED:20250828T112605Z
UID:1594-1757030400-1757289599@fntoys.id
SUMMARY:BAPENDA Cup Mini 4WD Damper Class HUT RI 80TH
DESCRIPTION:BAPENDA Cup mini 4WD Damper Class HUT RI 80TH \n5 – 7 September 2025 \nTotal Hadiah Rp.20.000.000 \nGrand Tarakan Mall Lt. 2\nJl. Yos Sudarso No.1 Lantai 4\, Karang Rejo\, Kec. Tarakan Bar.\, Kota Tarakan\, Kalimantan Utara
URL:https://fntoys.id/event/bapenda-cup-mini-4wd-damper-class-hut-ri-80th/
LOCATION:Grand Tarakan\, Jl. Yos Sudarso No.1 Lantai 4\, Karang Rejo\, Kec. Tarakan Bar.\, Kota Tarakan\, Kalimantan Utara\, Tarakan\, Kalimantan Utara\, Indonesia
CATEGORIES:Damper Style
ATTACH;FMTTYPE=image/jpeg:https://fntoys.id/wp-content/uploads/2025/08/WhatsApp-Image-2025-08-28-at-17.36.44.jpeg
END:VEVENT
BEGIN:VEVENT
DTSTART;VALUE=DATE:20250901
DTEND;VALUE=DATE:20250902
DTSTAMP:20260420T042513
CREATED:20250901T114238Z
LAST-MODIFIED:20250916T125927Z
UID:1610-1756684800-1756771199@fntoys.id
SUMMARY:Damper Class
DESCRIPTION:DAMPER CLASS \nTotal Hadiah Rp.10.000.000 \nSabtu\, 06 September 2025\nEngine On 10.00 s/d Selesai \nCinere Bellevue Mall\, Lantai G\nKota Depok\, Jawa Barat
URL:https://fntoys.id/event/damper-class/
LOCATION:Cinere Bellevue Mall\, Jl. Merawan No.23\, Pangkalan Jati\, Kec. Cinere\, Kota Depok\, Jawa Barat 16514\, Depok\, Jawa Barat\, 16514\, Indonesia
CATEGORIES:Damper Style
ATTACH;FMTTYPE=image/jpeg:https://fntoys.id/wp-content/uploads/2025/09/WhatsApp-Image-2025-08-31-at-21.22.08.jpeg
END:VEVENT
BEGIN:VEVENT
DTSTART;VALUE=DATE:20250831
DTEND;VALUE=DATE:20250901
DTSTAMP:20260420T042513
CREATED:20250827T121405Z
LAST-MODIFIED:20250827T121405Z
UID:1582-1756598400-1756684799@fntoys.id
SUMMARY:Fun Race Damper Style
DESCRIPTION:SOPONGIRO X BST X ROTARO Present \nFun Race Damper Style \n31 August 2025 \nTotal Hadiah Rp.3.500.000 \nLokasi di:\nBST FACTORY\nMadyorenggo\, Talok\, Kec. Turen\, Kabupaten Malang\, Jawa Timur 65175
URL:https://fntoys.id/event/fun-race-damper-style/
LOCATION:BST Factory\, Madyorenggo\, Talok\, Kec. Turen\, Kabupaten Malang\, Jawa Timur 65175\, Malang\, Jawa Timur\, 65175\, Indonesia
CATEGORIES:Damper Style
ATTACH;FMTTYPE=image/jpeg:https://fntoys.id/wp-content/uploads/2025/08/WhatsApp-Image-2025-08-27-at-10.28.39-e1756296825828.jpeg
END:VEVENT
BEGIN:VEVENT
DTSTART;VALUE=DATE:20250831
DTEND;VALUE=DATE:20250901
DTSTAMP:20260420T042513
CREATED:20250818T120943Z
LAST-MODIFIED:20250818T120943Z
UID:1561-1756598400-1756684799@fntoys.id
SUMMARY:Tamiya Fun Race Semarak Kemerdekaan
DESCRIPTION:Tamiya Fun Race Semarak Kemerdekaan \nTotal Hadiah Rp.3.750.000 \nMinggu\, 31 Agustus 2025 \nWarung Millenial Kota Pangkal Pinang\nJl. Hamidah No.10\, Batin Tikal\, Kec. Taman Sari\, Kota Pangkal Pinang\, Kepulauan Bangka Belitung 33684 \nInformasi lebih lanjut hubungi narahubung tertera di gambar.
URL:https://fntoys.id/event/tamiya-fun-race-semarak-kemerdekaan/
LOCATION:Warung Millenial\, Jl. Hamidah No.10\, Batin Tikal\, Kec. Taman Sari\, Kota Pangkal Pinang\, Kepulauan Bangka Belitung 33684\, Pangkal Pinang\, Kepulauan Bangka Belitung\, 33684\, Indonesia
CATEGORIES:Damper Style
ATTACH;FMTTYPE=image/jpeg:https://fntoys.id/wp-content/uploads/2025/08/WhatsApp-Image-2025-08-17-at-07.40.15.jpeg
END:VEVENT
BEGIN:VEVENT
DTSTART;VALUE=DATE:20250831
DTEND;VALUE=DATE:20250901
DTSTAMP:20260420T042513
CREATED:20250708T152226Z
LAST-MODIFIED:20250709T131718Z
UID:717-1756598400-1756684799@fntoys.id
SUMMARY:Mini4wd Championship Jatim Racing Series Indonesia Damper Class Round 1
DESCRIPTION:Mini4wd Championship\nJatim Racing Series\nIndonesia Damper Class\n31 agustus 2025 Round 1
URL:https://fntoys.id/event/mini4wd-championship-jatim-racing-series-indonesia-damper-class-round-1/
LOCATION:Marvel City\, Jl. Ngagel No.123\, Ngagel\, Kec. Wonokromo\, Surabaya\, Jawa Timur 60246\, Surabaya\, Jawa Timur\, 60246\, Indonesia
CATEGORIES:Damper Style
ATTACH;FMTTYPE=image/jpeg:https://fntoys.id/wp-content/uploads/2025/07/SaveVid.Net_514507887_1025943529693160_8460856546115903085_n.jpg
END:VEVENT
BEGIN:VEVENT
DTSTART;VALUE=DATE:20250824
DTEND;VALUE=DATE:20250825
DTSTAMP:20260420T042513
CREATED:20250730T131809Z
LAST-MODIFIED:20250730T131809Z
UID:929-1755993600-1756079999@fntoys.id
SUMMARY:Open Race Combat Damper Style Seri Ke-4
DESCRIPTION:Open Race Combat Damper Style Seri Ke-4 \n24 Agustus 2025 \nLokasi Njajan.Co \nJl. Gatot Subroto – Debong Kulon\, Kec. Tegal Selatan\, Kota Tegal\, Jawa Tengah
URL:https://fntoys.id/event/open-race-combat-damper-style-seri-ke-4/
LOCATION:TEGAL\, Njajan.Co Jl. Gatot Subroto - Debong Kulon\, Kec. Tegal Selatan\, Kota Tegal\, Tegal\, Jawa Tengah\, 52123\, Indonesia
CATEGORIES:Damper Style
ATTACH;FMTTYPE=image/jpeg:https://fntoys.id/wp-content/uploads/2025/07/WhatsApp-Image-2025-07-30-at-18.45.54.jpeg
END:VEVENT
BEGIN:VEVENT
DTSTART;VALUE=DATE:20250822
DTEND;VALUE=DATE:20250825
DTSTAMP:20260420T042513
CREATED:20250708T145137Z
LAST-MODIFIED:20250708T145428Z
UID:694-1755820800-1756079999@fntoys.id
SUMMARY:Team M9 2nd Year Anniversary Damper Style Class
DESCRIPTION:Team M9 2nd Year Anniversary\nDAMPER STYLE CLASS\nJumat – Ahad 22-24 Agustus 2025\nMaspion Square Surabaya\nJl. Ahmad yani No 73\, Margorejo\nWonocolo\, Surabaya Jawa Timur
URL:https://fntoys.id/event/team-m9-2nd-year-anniversary-damper-style-class/
LOCATION:Maspion Square\, Jl. Ahmad yani No 73\, Surabaya\, Jawa Timur\, Indonesia
CATEGORIES:Damper Style
ATTACH;FMTTYPE=image/jpeg:https://fntoys.id/wp-content/uploads/2025/07/SaveVid.Net_514696767_1258109392655248_3525860865811615722_n-e1751986157474.jpg
END:VEVENT
BEGIN:VEVENT
DTSTART;VALUE=DATE:20250817
DTEND;VALUE=DATE:20250818
DTSTAMP:20260420T042513
CREATED:20250815T131859Z
LAST-MODIFIED:20250815T131859Z
UID:1551-1755388800-1755475199@fntoys.id
SUMMARY:Merdeka Open Race Side Damper Class Belitung
DESCRIPTION:Merdeka Open Race\nSide Damper Class Belitung \n17 Agustus 2025 \nTotal Hadiah Rp.4.000.000\nIndividual Race \nPundok Kupi Anglo\nJl. Sriwijaya No.123\, Paal Satu\, Kec. Tj. Pandan\, Kabupaten Belitung\, Kepulauan Bangka Belitung 33411
URL:https://fntoys.id/event/merdeka-open-race-side-damper-class-belitung/
LOCATION:Pundok Kupi Anglo\, Jl. Sriwijaya No.123\, Paal Satu\, Kec. Tj. Pandan\, Kabupaten Belitung\, Kepulauan Bangka Belitung 33411\, Belitung\, Kepulauan Bangka Belitung\, 33411\, Indonesia
CATEGORIES:Damper Style
ATTACH;FMTTYPE=image/jpeg:https://fntoys.id/wp-content/uploads/2025/08/WhatsApp-Image-2025-08-15-at-07.49.23.jpeg
END:VEVENT
BEGIN:VEVENT
DTSTART;VALUE=DATE:20250817
DTEND;VALUE=DATE:20250818
DTSTAMP:20260420T042513
CREATED:20250801T120837Z
LAST-MODIFIED:20250801T140143Z
UID:1052-1755388800-1755475199@fntoys.id
SUMMARY:Team Mystic Present Damper Style Class
DESCRIPTION:Mystic Present\nRace Murah Meriah\nDamper Style Class \nTotal Prize Rp.10.000.000 \n1 Team Max 2 Racer \nEarly Bird Rp.350.0000/100 Run\nNon Early Rp.400.000/100 Run\nNext Coupons Rp.1500/Run \nJuara 1: Rp.2.500.000\nJuara 2: Rp.2.000.000\nJuara 3: Rp.1.500.000\nJuara 4: Rp.1.000.000\nBTO Track 1: Rp.750.000\nBTO Track 2: Rp.750.000\nBest Race: Rp.1.000.000\nBTO Session 5x: Rp.50.000 Per Track \nSunday\, 17 August 2025\n10.00 AM – Till End \nAt Transmart Majapahit\nJl. Brigjen Sudiarto\, Plamongan Sari\, Kec. Pedurungan\, Kota Semarang\, Jawa Tengah 50192 \nFor More Information:  Click here WhatsApp (FARID) Admin Race
URL:https://fntoys.id/event/team-mystic-present-damper-style-class/
LOCATION:Transmart Majapahit Semarang\, Jl. Brigjen Sudiarto\, Plamongan Sari\, Kec. Pedurungan\, Kota Semarang\, Jawa Tengah 50192\, Jawa Tengah\, 50192
CATEGORIES:Damper Style
ATTACH;FMTTYPE=image/jpeg:https://fntoys.id/wp-content/uploads/2025/08/WhatsApp-Image-2025-08-01-at-15.46.01.jpeg
END:VEVENT
BEGIN:VEVENT
DTSTART;VALUE=DATE:20250816
DTEND;VALUE=DATE:20250818
DTSTAMP:20260420T042513
CREATED:20250709T132041Z
LAST-MODIFIED:20250721T121516Z
UID:755-1755302400-1755475199@fntoys.id
SUMMARY:FNToys X HIPMI Open Race Damper Style 2025
DESCRIPTION:FNToys X HIPMI Open Race Damper Style 2025 \nTotal Hadiah Rp.25.000.000 \nSabtu – Ahad 16 – 17 Agustus \n2025 Di Gelora Pelita Bondowoso \nPendaftaran hubungi \nContact Person
URL:https://fntoys.id/event/fntoys-x-hipmi-open-race-damper-style-2025/
LOCATION:GOR Pelita\, Jl. Letjen Sutarman\, Kauman\, Kotakulon\, Kec. Bondowoso\, Kabupaten Bondowoso\, Jawa Timur 68219\, Bondowoso\, Jawa Timur\, 68219\, Indonesia
CATEGORIES:Damper Style
ATTACH;FMTTYPE=image/jpeg:https://fntoys.id/wp-content/uploads/2025/07/WhatsApp-Image-2025-07-09-at-08.59.49-1.jpeg
END:VEVENT
BEGIN:VEVENT
DTSTART;VALUE=DATE:20250812
DTEND;VALUE=DATE:20250813
DTSTAMP:20260420T042513
CREATED:20250812T140523Z
LAST-MODIFIED:20250812T140523Z
UID:1411-1754956800-1755043199@fntoys.id
SUMMARY:Tamiya Race Damper Style by Dusun Semilir X Mbois Team
DESCRIPTION:Tamiya Race Damper Style by Dusun Semilir X Mbois Team \nTotal Hadiah Rp.12.000.000 \n1 Team max 4 orang Rp.850.000\nPerorangan Rp.250.000\nKupon Unlimited\nMax 40 Team \nSabtu\, 13 September 2025\nJam 09.00 – 20.00 WIB \nBale Agung\, Dusun Semilir\nJl. Soekarno Hatta 49\, Ngemplak\, Bawen\, Kabupaten Semarang\, Jawa Tengah 50661
URL:https://fntoys.id/event/tamiya-race-damper-style-by-dusun-semilir-x-mbois-team/
LOCATION:Bale Agung Dusun Semilir\, Jl. Soekarno Hatta 49\, Ngemplak\, Bawen Kabupaten Semarang\, Semarang\, Jawa Tengah\, 50661\, Indonesia
CATEGORIES:Damper Style
ATTACH;FMTTYPE=image/jpeg:https://fntoys.id/wp-content/uploads/2025/08/WhatsApp-Image-2025-08-12-at-20.39.53.jpeg
END:VEVENT
BEGIN:VEVENT
DTSTART;VALUE=DATE:20250810
DTEND;VALUE=DATE:20250811
DTSTAMP:20260420T042513
CREATED:20250731T133211Z
LAST-MODIFIED:20250731T133211Z
UID:987-1754784000-1754870399@fntoys.id
SUMMARY:Wheels And Chill Mini 4WD OPEN RACE
DESCRIPTION:Wheels And Chill Mini 4WD OPEN RACE \nTotal Hadiah Rp.8.000.000 \n2 Track Kembar \nMinggu\, 10 Agustus 2025 \nPresented by Wheels n Chill\, Mambo Mini 4wd\, and Astro Tamiya \nLocation: UG\, Floor. Plaza Begawan \nJl. Raya Tlogomas No.1-3\, Tlogomas\, Kec. Lowokwaru\, Kota Malang\, Jawa Timur 65144
URL:https://fntoys.id/event/wheels-and-chill-mini-4wd-open-race/
LOCATION:Plaza Begawan\, Jl. Raya Tlogomas No.1-3\, Tlogomas\, Kec. Lowokwaru\, Kota Malang\, Jawa Timur 65144\, Malang\, Jawa Timur\, 65144\, Indonesia
CATEGORIES:Damper Style
ATTACH;FMTTYPE=image/jpeg:https://fntoys.id/wp-content/uploads/2025/07/WhatsApp-Image-2025-07-31-at-15.06.12.jpeg
END:VEVENT
BEGIN:VEVENT
DTSTART;VALUE=DATE:20250803
DTEND;VALUE=DATE:20250804
DTSTAMP:20260420T042513
CREATED:20250723T111454Z
LAST-MODIFIED:20250724T112906Z
UID:884-1754179200-1754265599@fntoys.id
SUMMARY:Balapan Damper Style By Tamiya Zone Malang
DESCRIPTION:Minggu 03 Agustus 2025 \nTotal Hadiah Rp. 2.000.000\nJuara 1 Rp. 700.000\nJuara 2 Rp. 600.000\nJuara 3 Rp. 400.000\nBTO Rp. 300.000 \nIndividual Race\nRegister Rp. 125.000/50 kupon.\nNext Rp. 1000/kupon\nBTO Dinamo Wajib Segel.
URL:https://fntoys.id/event/balapan-damper-style-by-tamiya-zone-malang/
LOCATION:Tamiya Zone\, Jl. Subali Raya No.Kav. 12A\, Sawojajar A\, Sekarpuro\, Kec. Pakis\, Kabupaten Malang\, Jawa Timur 65154\, Malang\, Jawa Timur\, 65154\, Indonesia
CATEGORIES:Damper Style
ATTACH;FMTTYPE=image/jpeg:https://fntoys.id/wp-content/uploads/2025/07/WhatsApp-Image-2025-07-24-at-05.21.59.jpeg
END:VEVENT
BEGIN:VEVENT
DTSTART;VALUE=DATE:20250802
DTEND;VALUE=DATE:20250803
DTSTAMP:20260420T042513
CREATED:20250722T142728Z
LAST-MODIFIED:20250722T142728Z
UID:875-1754092800-1754179199@fntoys.id
SUMMARY:Madun Dor Dor Dorr!! Damper Style Class 2025
DESCRIPTION:Madun Dor Dor Dorr!! Damper style class 2025 \nTotal Hadiah Rp. 10.000.000 \nSabtu 2 agustus 2025 \nTransmart Majapahit Semarang
URL:https://fntoys.id/event/madun-dor-dor-dorr-damper-style-class-2025/
LOCATION:Transmart Majapahit Semarang\, Jl. Brigjen Sudiarto\, Plamongan Sari\, Kec. Pedurungan\, Kota Semarang\, Jawa Tengah 50192\, Jawa Tengah\, 50192
CATEGORIES:Damper Style
ATTACH;FMTTYPE=image/jpeg:https://fntoys.id/wp-content/uploads/2025/07/SaveVid.Net_519679429_1711559332819886_7975976384833090526_n.jpg
END:VEVENT
BEGIN:VEVENT
DTSTART;VALUE=DATE:20250727
DTEND;VALUE=DATE:20250728
DTSTAMP:20260420T042513
CREATED:20250726T131640Z
LAST-MODIFIED:20250726T131640Z
UID:898-1753574400-1753660799@fntoys.id
SUMMARY:Fun Race by CS1 Damper Style Class
DESCRIPTION:Fun Race by CS1\nDamper Style Class\n27 Juli 2025\nTotal Hadiah 1.200.000\nATC Pegandon Pekalongan
URL:https://fntoys.id/event/fun-race-by-cs1-damper-style-class/
LOCATION:ATC Tamiya Pegandon\, Sawah\, Pegandon\, Kec. Karangdadap\, Kabupaten Pekalongan\, Jawa Tengah 51174\, Pekalongan\, Jawa Tengah\, 51174\, Indonesia
CATEGORIES:Damper Style
ATTACH;FMTTYPE=image/jpeg:https://fntoys.id/wp-content/uploads/2025/07/WhatsApp-Image-2025-07-26-at-15.15.12.jpeg
END:VEVENT
BEGIN:VEVENT
DTSTART;VALUE=DATE:20250726
DTEND;VALUE=DATE:20250728
DTSTAMP:20260420T042513
CREATED:20250708T151201Z
LAST-MODIFIED:20250708T151201Z
UID:708-1753488000-1753660799@fntoys.id
SUMMARY:Kill The Monkey Damper Style Class
DESCRIPTION:Kill The Monkey Damper Style Class by Distrik Mini 4WD\n26-27 July 2025\nGOR A.YANI Probolinggo\nJl. Dr.Sutomo No.60\, Tisnonegaran\, Kec. Kanigaran\, Kota Probolinggo\, Jawa Timur 67211
URL:https://fntoys.id/event/kill-the-monkey-damper-style-class/
LOCATION:GOR A Yani\, Jl. Dr.Sutomo No.60\, Tisnonegaran\, Kec. Kanigaran\, Probolinggo\, Jawa Timur\, 67211\, Indonesia
CATEGORIES:Damper Style
ATTACH;FMTTYPE=image/jpeg:https://fntoys.id/wp-content/uploads/2025/07/SaveVid.Net_514872264_704669555711916_6193444467362112471_n.jpg
END:VEVENT
BEGIN:VEVENT
DTSTART;VALUE=DATE:20250726
DTEND;VALUE=DATE:20250727
DTSTAMP:20260420T042513
CREATED:20250724T113919Z
LAST-MODIFIED:20250724T113919Z
UID:893-1753488000-1753574399@fntoys.id
SUMMARY:Elyoncare Grand Prix Round
DESCRIPTION:Elyoncare Grand Prix Round 3 \nSabtu 26 Juli 2025 \nTotal Hadiah Rp. 8.500.000 \nPendaftaran:\nEarly Rp. 850.000 (200 run + 50 run + 2 JCSE)\nMAX 10 RACER/TEAM \nLokasi di Mall Taman Palem Floor lobby P2
URL:https://fntoys.id/event/elyoncare-grand-prix-round/
LOCATION:Mall Taman Palem\, Jl. Kamal Raya Outer Ring Road\, Cengkareng Tim.\, Kecamatan Cengkareng\, Kota Jakarta Barat\, Daerah Khusus Ibukota Jakarta 11730\, Jakarta Barat\, Jakarta\, 11730\, Indonesia
CATEGORIES:Damper Style
ATTACH;FMTTYPE=image/jpeg:https://fntoys.id/wp-content/uploads/2025/07/WhatsApp-Image-2025-07-24-at-10.36.23.jpeg
END:VEVENT
BEGIN:VEVENT
DTSTART;VALUE=DATE:20250718
DTEND;VALUE=DATE:20250721
DTSTAMP:20260420T042513
CREATED:20250703T131956Z
LAST-MODIFIED:20250708T061443Z
UID:588-1752796800-1753055999@fntoys.id
SUMMARY:Balikpapan Damperholic Mini4WD
DESCRIPTION:BALIKPAPAN DAMPERHOLIC MINI 4WD SESSION 2.0\nTOTAL HADIAH 35 JUTA\nREGULASI DAMPER STYLE 2025\n1 TIM: 6 ORANG\n2 TRACK KEMBAR \nINFO LEBIH LANJUT HUBUNGI ORGANIZER \n 
URL:https://fntoys.id/event/balikpapan-damperholic-mini-4wd/
LOCATION:BALIKPAPAN\, Pasar Segar Balikpapan\, Area Dalam Pasar Blok KH-12\, Gn. Samarinda\, Kec. Balikpapan Utara\, Kota Balikpapan\, Kalimantan Timur\, Balikpapan\, Kalimantan Timur\, 74126\, Indonesia
CATEGORIES:Damper Style
ATTACH;FMTTYPE=image/webp:https://fntoys.id/wp-content/uploads/2025/07/SaveVid.Net_513835057_18519838279041751_5767143180374430713_n-e1751955262545.webp
END:VEVENT
BEGIN:VEVENT
DTSTART;VALUE=DATE:20250713
DTEND;VALUE=DATE:20250714
DTSTAMP:20260420T042513
CREATED:20250708T150123Z
LAST-MODIFIED:20250708T150532Z
UID:700-1752364800-1752451199@fntoys.id
SUMMARY:Lets & Go..!! Damper Class War. Vol 08
DESCRIPTION:Lets & Go..!!\nDamper Class War. Vol 08\n12 Juli 2025\nRoad To Distrik Open\nGudang Lumba Lumba Talok Turen Malang
URL:https://fntoys.id/event/lets-go-damper-class-war-vol-08/
LOCATION:Gudang Lumba Lumba\, Talok Turen\, Malang\, jawa timur\, Indonesia
CATEGORIES:Damper Style
ATTACH;FMTTYPE=image/jpeg:https://fntoys.id/wp-content/uploads/2025/07/SaveVid.Net_516397668_17861521224438529_7390978717336950739_n.jpg
END:VEVENT
BEGIN:VEVENT
DTSTART;VALUE=DATE:20250713
DTEND;VALUE=DATE:20250714
DTSTAMP:20260420T042513
CREATED:20250703T132542Z
LAST-MODIFIED:20250721T121318Z
UID:592-1752364800-1752451199@fntoys.id
SUMMARY:Jember Mini4WD Championship 2025
DESCRIPTION:Higher\, Further\, Faster\nTotal Hadiah 5 juta rupiah\n13 Juli 2025 at Gedung Jember Nusantara \nContact Person
URL:https://fntoys.id/event/ember-mini4wd-championship-2025/
LOCATION:Jember\, Pagah\, Jemberlor\, Kec. Patrang\, Kabupaten Jember\, Jawa Timur 68118\, Jember\, Jawa Timur\, 68118\, Indonesia
CATEGORIES:Damper Style
ATTACH;FMTTYPE=image/jpeg:https://fntoys.id/wp-content/uploads/2025/07/SaveVid.Net_511582092_1430051464796663_3791422506387497648_n-1-e1751613618864.jpg
END:VEVENT
END:VCALENDAR