BEGIN:VCALENDAR
VERSION:2.0
PRODID:-//Fntoys Workshop - ECPv6.15.11//NONSGML v1.0//EN
CALSCALE:GREGORIAN
METHOD:PUBLISH
X-ORIGINAL-URL:https://fntoys.id
X-WR-CALDESC:Events for Fntoys Workshop
REFRESH-INTERVAL;VALUE=DURATION:PT1H
X-Robots-Tag:noindex
X-PUBLISHED-TTL:PT1H
BEGIN:VTIMEZONE
TZID:Asia/Jakarta
BEGIN:STANDARD
TZOFFSETFROM:+0700
TZOFFSETTO:+0700
TZNAME:WIB
DTSTART:20240101T000000
END:STANDARD
END:VTIMEZONE
BEGIN:VTIMEZONE
TZID:Asia/Kuala_Lumpur
BEGIN:STANDARD
TZOFFSETFROM:+0800
TZOFFSETTO:+0800
TZNAME:+08
DTSTART:20240101T000000
END:STANDARD
END:VTIMEZONE
BEGIN:VEVENT
DTSTART;VALUE=DATE:20251128
DTEND;VALUE=DATE:20251201
DTSTAMP:20260419T233424
CREATED:20251124T125454Z
LAST-MODIFIED:20251124T125454Z
UID:1991-1764288000-1764547199@fntoys.id
SUMMARY:FINAL SERIES SAMARINDA DAMPER STYLE 2025: Ajang Akbar B-MAX KUKAR dengan Total Hadiah Rp 110.000.000!
DESCRIPTION:Jangan lewatkan puncak kompetisi Mini 4WD Damper Style terbesar di Kalimantan Timur! Final Series Samarinda Damper Style 2025 persembahan B-MAX KUKAR ini menawarkan TOTAL HADIAH MENCAPAI RP 105.000.000! Selain itu\, tersedia hadiah tambahan Rp 5.000.000 untuk B-MAX (BTO Maksimal) yang terbagi untuk BTO Track 1\, 2\, dan 3. \nAjang balap akbar ini akan berlangsung selama tiga hari\, mulai 28 hingga 30 November 2025. Para racer akan beradu keahlian di 3 Track Kembar yang menantang. \nSetiap tim dapat berpartisipasi dengan formasi 1 Tim maksimal 10 Orang. Bersiaplah untuk pengalaman race yang penuh FUN dan RESPECT! \nSegera daftarkan tim terbaik Anda dan raih hadiah fantastis ini! \nLokasi: GOR Segiri Samarinda. Info & Kontak: Arief AA’ – 0813 5149 0499.
URL:https://fntoys.id/event/final-series-samarinda-damper-style-2025-ajang-akbar-b-max-kukar-dengan-total-hadiah-rp-110-000-000/
LOCATION:GOR Segiri\, Jl. Kesuma Bangsa\, Sungai Pinang Luar\, Kec. Samarinda Kota\, Kota Samarinda\, Kalimantan Timur 75242\, Samarinda\, Kalimantan Timur\, 75242\, Indonesia
CATEGORIES:B-MAX
ATTACH;FMTTYPE=image/jpeg:https://fntoys.id/wp-content/uploads/2025/11/SaveVid.Net_572388628_17874731271438529_1765498876154544514_n.jpg
END:VEVENT
BEGIN:VEVENT
DTSTART;VALUE=DATE:20251031
DTEND;VALUE=DATE:20251103
DTSTAMP:20260419T233424
CREATED:20250916T131049Z
LAST-MODIFIED:20251027T135434Z
UID:1693-1761868800-1762127999@fntoys.id
SUMMARY:FNTOYS Bertarung di MATEC 25 Mini 4WD Cup Malaysia\, Total Hadiah RM 10.000!
DESCRIPTION:Tantangan Internasional! 2ND MATEC 25 MINI 4WD CUP di Stadium Bukit Jalil\, Malaysia! \nFNTOYS mengumumkan akan berpartisipasi sebagai racer di ajang bergengsi 2ND MATEC 25 MINI 4WD CUP yang diadakan di Stadium Bukit Jalil Parking A & B\, Kuala Lumpur\, Malaysia. Event ini wajib diramaikan oleh para pecinta Tamiya Mini 4WD karena menawarkan total Pool Prize RM 10.000 (Ringgit Malaysia). \nAcara ini berlangsung selama tiga hari\, mulai dari Training Session pada 31 Oktober 2025\, dilanjutkan dengan B-MAX Session I pada 1 November\, dan B-MAX Session II pada 2 November 2025. Dengan Juara 1 (Champion) berhak membawa pulang RM 5.000 plus trofi\, persaingan di Official Race Layout yang menantang ini dipastikan sangat ketat. \nDetail Penting: \n\nTanggal: 31 Oktober – 2 November 2025\nLokasi: Stadium Bukit Jalil Parking A & B\, Kuala Lumpur\, Malaysia\nSesi Balap: B-MAX Session I & II\nTotal Hadiah: RM 10.000\n\nDukung perjalanan FNTOYS dan racer Indonesia lainnya yang siap menghadapi tantangan di lintasan B-MAX Internasional ini!
URL:https://fntoys.id/event/2nd-matec-mini-4wd-cup-2025/
LOCATION:Stadium Bukit Jalil Parking A & B\, Bukit Jalil\, 57000 Kuala Lumpur\, Federal Territory of Kuala Lumpur\, Malaysia\, Kuala Lumpur\, Kuala Lumpur\, Malaysia
CATEGORIES:B-MAX
ATTACH;FMTTYPE=image/jpeg:https://fntoys.id/wp-content/uploads/2025/09/WhatsApp-Image-2025-09-16-at-11.43.11.jpeg
END:VEVENT
BEGIN:VEVENT
DTSTART;VALUE=DATE:20251019
DTEND;VALUE=DATE:20251020
DTSTAMP:20260419T233424
CREATED:20251009T131951Z
LAST-MODIFIED:20251009T134205Z
UID:1811-1760832000-1760918399@fntoys.id
SUMMARY:Funrace Tanlalana B-Max Dash Series
DESCRIPTION:Funrace Tanlalana B-Max Dash Series\nTanggal: 19 Oktober 2025Lokasi: Pondok Kupi Anglo \nSatu lagi event seru untuk para pecinta Mini 4WD Indonesia!Tanlalana B-Max Dash Series siap memberikan keseruan dengan hadiah total Rp 1.500.000 dan banjir doorprize menarik. \nHadiah: \n1st: Rp 600.000 + Trophy \n2nd: Rp 400.000 + Trophy \n3rd: Rp 300.000 + Trophy \nBTO: Rp 200.000 + Trophy \nRegist: Rp 150.000 (75 kupon)Tambahan kupon: Rp 50.000 (30 kupon) \nJadwal: \nBabak 1: 10.00–16.30 WIB \nBabak 2: 16.40 WIB – Selesai \nEvent ini diadakan oleh MMC TATA x Pondok Anglo\, dengan konsep individual race yang tetap kompetitif dan fun.
URL:https://fntoys.id/event/fun-race-tanlalana-b-max-dash-series/
LOCATION:Pundok Kupi Anglo\, Jl. Sriwijaya No.123\, Paal Satu\, Kec. Tj. Pandan\, Kabupaten Belitung\, Kepulauan Bangka Belitung 33411\, Belitung\, Kepulauan Bangka Belitung\, 33411\, Indonesia
CATEGORIES:B-MAX
ATTACH;FMTTYPE=image/jpeg:https://fntoys.id/wp-content/uploads/2025/10/WhatsApp-Image-2025-10-09-at-13.06.54.jpeg
END:VEVENT
END:VCALENDAR